BEGIN:VCALENDAR
VERSION:2.0
PRODID:-//wp-events-plugin.com//7.2.3.1//EN
BEGIN:VEVENT
UID:36@develop.co.id
DTSTART;TZID=Asia/Jakarta:20241123T090000
DTEND;TZID=Asia/Jakarta:20241124T160000
DTSTAMP:20241025T231908Z
URL:https://develop.co.id/events/pipeline-remaining-life-assessment-pipeli
 ne-rla-inspection-training-2/
SUMMARY:Pipeline Remaining Life Assessment Pipeline RLA & Inspection Traini
 ng
DESCRIPTION:Pipeline Remaining Life Assessment Pipeline RLA & Inspection Tr
 aining
CATEGORIES:Corrosion Engineering,Mechanical Engineering,Mechanical
 Maintenance&amp;Operation,Metallurgy/Material Engineering,Pipeline
 Engineering,Pipeline Maintenance&amp;Operation,Piping Engineering,Piping
 Maintenance&amp;Operation
END:VEVENT
BEGIN:VTIMEZONE
TZID:Asia/Jakarta
X-LIC-LOCATION:Asia/Jakarta
BEGIN:STANDARD
DTSTART:20231124T090000
TZOFFSETFROM:+0700
TZOFFSETTO:+0700
TZNAME:WIB
END:STANDARD
END:VTIMEZONE
END:VCALENDAR