BEGIN:VCALENDAR
VERSION:2.0
PRODID:-//wp-events-plugin.com//7.2.3.1//EN
BEGIN:VEVENT
UID:288@develop.co.id
DTSTART;TZID=Asia/Jakarta:20260506T090000
DTEND;TZID=Asia/Jakarta:20260507T160000
DTSTAMP:20260304T064606Z
URL:https://develop.co.id/events/medium-high-voltage-15kv-33kv-switchgearc
 ircuit-breakers-training-2026-05-06/
SUMMARY:Medium-High voltage 15Kv-33Kv Switchgear&Circuit Breakers Training
DESCRIPTION:DEVELOP Training Center menyelenggarakan Kelas Medium-High volt
 age 15Kv-33Kv Switchgear&Circuit Breakers yang akan mengajarkan kepada And
 a tentang teknik Instalasi aman & Pengujian untuk Switchgear serta mengopt
 imalkan pengoperasian fungsi Switchgear.\n\nSwitchgear (dan pemutus sirkui
 t) jelas merupakan komponen penting dalam sistem distribusi listrik dan op
 erasinya secara signifikan mempengaruhi operasi sistem secara keseluruhan.
 \n\nWorkshop Medium-High voltage 15Kv-33Kv Switchgear&Circuit Breakers dar
 i DEVELOP Training Center akan membahas masalah aplikasi\, pemasangan\, pe
 rawatan dan pengujian yang berkaitan dengan switchgear tegangan menengah d
 an tinggi dan pemutus sirkuit. Serta akan ada cakupan switchgear tegangan 
 rendah.
CATEGORIES:Electrical Engineering,Instrument Engineering
LOCATION:DEVELOP Training Center\, Perkantoran Permata Eksekutif Tower 2\,L
 obby Lantai 2\,Suite No 3 Jalan Raya Pos Pengumben\,Kebon Jeruk\,\, Jakart
 a Barat\, INDONESIA\, 11550\, Indonesia
X-APPLE-STRUCTURED-LOCATION;VALUE=URI;X-ADDRESS=Perkantoran Permata Eksekut
 if Tower 2\,Lobby Lantai 2\,Suite No 3 Jalan Raya Pos Pengumben\,Kebon Jer
 uk\,\, Jakarta Barat\, INDONESIA\, 11550\, Indonesia;X-APPLE-RADIUS=100;X-
 TITLE=DEVELOP Training Center:geo:0,0
END:VEVENT
BEGIN:VTIMEZONE
TZID:Asia/Jakarta
X-LIC-LOCATION:Asia/Jakarta
BEGIN:STANDARD
DTSTART:20250506T090000
TZOFFSETFROM:+0700
TZOFFSETTO:+0700
TZNAME:WIB
END:STANDARD
END:VTIMEZONE
END:VCALENDAR