BEGIN:VCALENDAR
VERSION:2.0
PRODID:-//wp-events-plugin.com//7.2.3.1//EN
BEGIN:VEVENT
UID:280@develop.co.id
DTSTART;TZID=Asia/Jakarta:20260512T090000
DTEND;TZID=Asia/Jakarta:20260513T160000
DTSTAMP:20260304T064434Z
URL:https://develop.co.id/events/electrical-feed-front-end-engineering-stu
 dy-training-2026-03-10-2026-04-14-2026-05-12/
SUMMARY:Electrical FEED/Front End Engineering Study Training
DESCRIPTION:DEVELOP Training Center menyelenggarakan Electrical Engineering
  FEED/Front End Engineering Study Training yang sangat berguna untuk menda
 patkan skill tentang Metode studi kelayakan project\,estimasi biaya/owner 
 estimate & Basic Design Package Medium High Voltage Power Project beserta 
 optimalisasinya.\n\nKecepatan dan kualitas studi konseptual\, Basic dan DE
 D/Detail Engineering Design sangat penting untuk keberhasilan proyek konst
 ruksi.
CATEGORIES:Electrical Engineering,Instrument Engineering,Project
 Management
LOCATION:DEVELOP Training Center\, Perkantoran Permata Eksekutif Tower 2\,L
 obby Lantai 2\,Suite No 3 Jalan Raya Pos Pengumben\,Kebon Jeruk\,\, Jakart
 a Barat\, INDONESIA\, 11550\, Indonesia
X-APPLE-STRUCTURED-LOCATION;VALUE=URI;X-ADDRESS=Perkantoran Permata Eksekut
 if Tower 2\,Lobby Lantai 2\,Suite No 3 Jalan Raya Pos Pengumben\,Kebon Jer
 uk\,\, Jakarta Barat\, INDONESIA\, 11550\, Indonesia;X-APPLE-RADIUS=100;X-
 TITLE=DEVELOP Training Center:geo:0,0
END:VEVENT
BEGIN:VTIMEZONE
TZID:Asia/Jakarta
X-LIC-LOCATION:Asia/Jakarta
BEGIN:STANDARD
DTSTART:20250512T090000
TZOFFSETFROM:+0700
TZOFFSETTO:+0700
TZNAME:WIB
END:STANDARD
END:VTIMEZONE
END:VCALENDAR